Workbook

Sheet 40204810200000000013
A3: Наименование показателя | B3: Глава | C3: Раздел/ подраздел | D3: Отчет 2018 год | E3: Уточненная роспись на 01.10.19 год | F3: Проект 2020год | G3: Отклонение | K3: Проект 2021 год | L3: Проект 2022 год
G4: к отчету 2018 года | I4: к плану 2019 года
G5: Сумма | H5: (%) | I5: Сумма | J5: (%)
A6: Администрация ЗАТО г. Североморск | B6: 701 | C6: 0000 | D6: =D7+D13+D17+D20+D24+D28+D30 -> 2.9474006e+08 | E6: =E7+E13+E17+E20+E24+E28+E30 -> 1.0790507e+08 | F6: =F7+F13+F17+F20+F24+F28+F30 -> 1.1269818e+08 | G6: =F6-D6 -> -1.8204189e+08 | H6: =F6/D6*100 -> 38.236463 | I6: =F6-E6 -> 4793109 | J6: =F6/E6 -> 1.0444197 | K6: =K7+K13+K17+K20+K24+K28+K30 -> 1.03849e+08 | L6: =L7+L13+L17+L20+L24+L28+L30 -> 1.041008e+08
A7: ОБЩЕГОСУДАРСТВЕННЫЕ ВОПРОСЫ | B7: 701 | C7: 0100 | D7: =D8+D9+D10+D11+D12 -> 1.0643406e+08 | E7: =E8+E9+E10+E11+E12 -> 53635888 | F7: =F8+F9+F10+F11+F12 -> 62095416 | G7: =F7-D7 -> -44338647 | H7: =F7/D7*100 -> 58.341676 | I7: =F7-E7 -> 8459527.5 | J7: =F7/E7 -> 1.1577214 | K7: =K8+K9+K10+K11+K12 -> 53563073 | L7: =L8+L9+L10+L11+L12 -> 53782008
A8: Функционирование высшего должностного лица субъекта Российской Федерации и муниципального образования | B8: 701 | C8: 0102 | D8: 2594536.9 | E8: 2971082 | F8: 3066027 | G8: =F8-D8 -> 471490.18 | H8: =F8/D8*100 -> 118.17242 | I8: =F8-E8 -> 94945.05 | J8: =F8/E8 -> 1.0319564 | K8: 3225566.1 | L8: 3125566.1
A9: Функционирование Правительства Российской Федерации, высших исполнительных органов государственной власти субъектов Российской Федерации, местных администраций | B9: 701 | C9: 0104 | D9: 45866703 | E9: 45020085 | F9: 44747013 | G9: =F9-D9 -> -1119689.3 | H9: =F9/D9*100 -> 97.558819 | I9: =F9-E9 -> -273071.52 | J9: =F9/E9 -> 0.99393445 | K9: 45721181 | L9: 45721181
A10: Судебная система | B10: 701 | C10: 0105 | D10: 42000 | E10: 12080.64 | F10: 11320 | G10: =F10-D10 -> -30680 | H10: =F10/D10*100 -> 26.952381 | I10: =F10-E10 -> -760.64 | J10: =F10/E10 -> 0.93703645 | K10: 12197.64 | L10: 111385.18
A11: Обеспечение проведения выборов и референдумов | B11: 701 | C11: 0107 | D11: 1312500 | F11: 7960300 | G11: =F11-D11 -> 6647800 | H11: =F11/D11*100 -> 606.49905 | I11: =F11-E11 -> 7960300 | J11: 0 | K11: 0 | L11: 0
A12: Другие общегосударственные вопросы | B12: 701 | C12: 0113 | D12: 56618324 | E12: 5632640.8 | F12: 6310755.4 | G12: =F12-D12 -> -50307568 | H12: =F12/D12*100 -> 11.146136 | I12: =F12-E12 -> 678114.59 | J12: =F12/E12 -> 1.1203902 | K12: 4604128.7 | L12: 4823876.2
A13: НАЦИОНАЛЬНАЯ БЕЗОПАСНОСТЬ И ПРАВООХРАНИТЕЛЬНАЯ ДЕЯТЕЛЬНОСТЬ | B13: 701 | C13: 0300 | D13: =D14+D15+D16 -> 11972054 | E13: =E14+E15+E16 -> 4457475 | F13: =F14+F15+F16 -> 3795972 | G13: =F13-D13 -> -8176081.5 | H13: =F13/D13*100 -> 31.706942 | I13: =F13-E13 -> -661503 | J13: =F13/E13 -> 0.85159692 | K13: =K14+K15+K16 -> 2699742 | L13: =L14+L15+L16 -> 2684379
A14: Органы юстиции | B14: 701 | C14: 0304 | D14: 3982647.9 | E14: 4367475 | F14: 3655972 | G14: =F14-D14 -> -326675.92 | H14: =F14/D14*100 -> 91.797519 | I14: =F14-E14 -> -711503 | J14: =F14/E14 -> 0.83709054 | K14: 2559742 | L14: 2542579
A15: Защита населения и территории от чрезвычайных ситуаций природного и техногенного характера, гражданская оборона | B15: 701 | C15: 0309 | D15: 7202970.9 | E15: 0 | F15: 0 | G15: =F15-D15 -> -7202970.9 | H15: =F15/D15*100 -> 0 | I15: =F15-E15 -> 0 | J15: 0 | K15: 0 | L15: 0
A16: Другие вопросы в области национальной безопасности и правоохранительной деятельности | B16: 701 | C16: 0314 | D16: 786434.67 | E16: 90000 | F16: 140000 | G16: =F16-D16 -> -646434.67 | H16: =F16/D16*100 -> 17.80186 | I16: =F16-E16 -> 50000 | J16: =F16/E16 -> 1.5555556 | K16: 140000 | L16: 141800
A17: НАЦИОНАЛЬНАЯ ЭКОНОМИКА | B17: 701 | C17: 0400 | D17: =D18+D19 -> 24577598 | E17: =E18+E19 -> 29581219 | F17: =F18+F19 -> 26272167 | G17: =F17-D17 -> 1694569.1 | H17: =F17/D17*100 -> 106.89477 | I17: =F17-E17 -> -3309051.3 | J17: =F17/E17 -> 0.88813675 | K17: =K18+K19 -> 26820851 | L17: =L18+L19 -> 26772574
A18: Связь и информатика | B18: 701 | C18: 0410 | D18: 23921957 | E18: 25022951 | F18: 25822461 | G18: =F18-D18 -> 1900504.1 | H18: =F18/D18*100 -> 107.9446 | I18: =F18-E18 -> 799510.26 | J18: =F18/E18 -> 1.0319511 | K18: 26367775 | L18: 26367775
A19: Другие вопросы в области национальной экономики | B19: 701 | C19: 0412 | D19: 655641.04 | E19: 4558267.5 | F19: 449706 | G19: =F19-D19 -> -205935.04 | H19: =F19/D19*100 -> 68.590276 | I19: =F19-E19 -> -4108561.5 | J19: =F19/E19 -> 0.098657219 | K19: 453076 | L19: 404799
A20: ОБРАЗОВАНИЕ | B20: 701 | C20: 0700 | D20: =D21+D22+D23 -> 1.1760138e+08 | E20: =E21+E22+E23 -> 130859.98 | F20: =F21+F22+F23 -> 0 | G20: =F20-D20 -> -1.1760138e+08 | H20: =F20/D20*100 -> 0 | I20: =F20-E20 -> -130859.98 | J20: =F20/E20 -> 0 | K20: =K21+K22+K23 -> 0 | L20: =L21+L22+L23 -> 0
A21: Дошкольное образование | B21: 701 | C21: 0701 | D21: 72739053 | E21: 0 | F21: 0 | G21: =F21-D21 -> -72739053 | H21: =F21/D21*100 -> 0 | I21: =F21-E21 -> 0 | J21: 0 | K21: 0 | L21: 0
A22: Общее образование | B22: 701 | C22: 0702 | D22: 44291500 | E22: 0 | F22: 0 | G22: =F22-D22 -> -44291500 | H22: =F22/D22*100 -> 0 | I22: =F22-E22 -> 0 | J22: 0 | K22: 0 | L22: 0
A23: Молодежная политика и оздоровление детей | B23: 701 | C23: 0707 | D23: 570825.18 | E23: 130859.98 | F23: 0 | G23: =F23-D23 -> -570825.18 | H23: =F23/D23*100 -> 0 | I23: =F23-E23 -> -130859.98 | J23: =F23/E23 -> 0 | K23: 0 | L23: 0
A24: СОЦИАЛЬНАЯ ПОЛИТИКА | B24: 701 | C24: 1000 | D24: =D25+D26+D27 -> 15812540 | E24: =E25+E26+E27 -> 18646440 | F24: =F25+F26+F27 -> 20534620 | G24: =F24-D24 -> 4722079.5 | H24: =F24/D24*100 -> 129.86288 | I24: =F24-E24 -> 1888180 | J24: =F24/E24 -> 1.1012622 | K24: =K25+K26+K27 -> 20765336 | L24: =L25+L26+L27 -> 20861836
A25: Пенсионное обеспечение | B25: 701 | C25: 1001 | D25: 5155624.5 | E25: 5519040 | F25: 6748720 | G25: =F25-D25 -> 1593095.5 | H25: =F25/D25*100 -> 130.90015 | I25: =F25-E25 -> 1229680 | J25: =F25/E25 -> 1.2228069 | K25: 6899435.8 | L25: 6899435.8
A26: Социальное обеспечение населения | B26: 701 | C26: 1003 | D26: 8589161.2 | E26: 10970700 | F26: 11470700 | G26: =F26-D26 -> 2881538.8 | H26: =F26/D26*100 -> 133.54855 | I26: =F26-E26 -> 500000 | J26: =F26/E26 -> 1.0455759 | K26: 11472900 | L26: 11475600
A27: Охрана семьи и детства | B27: 701 | C27: 1004 | D27: 2067754.8 | E27: 2156700 | F27: 2315200 | G27: =F27-D27 -> 247445.24 | H27: =F27/D27*100 -> 111.96686 | I27: =F27-E27 -> 158500 | J27: =F27/E27 -> 1.0734919 | K27: 2393000 | L27: 2486800
A28: ФИЗИЧЕСКАЯ КУЛЬТУРА И СПОРТ | B28: 701 | C28: 1100 | D28: =D29 -> 1821259.4 | E28: =E29 -> 1453184.2 | F28: =F29 -> 0 | G28: =F28-D28 -> -1821259.4 | H28: =F28/D28*100 -> 0 | I28: =F28-E28 -> -1453184.2 | J28: =F28/E28 -> 0 | K28: =K29 -> 0 | L28: =L29 -> 0
A29: Другие вопросы в области физической культуры и спорта | B29: 701 | C29: 1105 | D29: 1821259.4 | E29: 1453184.2 | F29: 0 | G29: =F29-D29 -> -1821259.4 | H29: =F29/D29*100 -> 0 | I29: =F29-E29 -> -1453184.2 | J29: =F29/E29 -> 0 | K29: 0 | L29: 0
A30: СРЕДСТВА МАССОВОЙ ИНФОРМАЦИИ | B30: 701 | C30: 1200 | D30: =D31+D32 -> 16521168 | E30: =E31+E32 -> 0 | F30: =F31+F32 -> 0 | G30: =F30-D30 -> -16521168 | H30: =F30/D30*100 -> 0 | I30: =F30-E30 -> 0 | J30: 0 | K30: =K31+K32 -> 0 | L30: =L31+L32 -> 0
A31: Телевидение и радиовещание | B31: 701 | C31: 1201 | D31: 5378069.7 | E31: 0 | F31: 0 | G31: =F31-D31 -> -5378069.7 | H31: =F31/D31*100 -> 0 | I31: =F31-E31 -> 0 | J31: 0 | K31: 0 | L31: 0
A32: Периодическая печать и издательства | B32: 701 | C32: 1202 | D32: 11143098 | E32: 0 | F32: 0 | G32: =F32-D32 -> -11143098 | H32: =F32/D32*100 -> 0 | I32: =F32-E32 -> 0 | J32: 0 | K32: 0 | L32: 0
A33: Управление финансов администрации ЗАТО г. Североморск | B33: 703 | C33: 0000 | D33: =D34+D38+D41 -> 52084305 | E33: =E34+E38+E41 -> 70401754 | F33: =F34+F38+F41 -> 51611828 | G33: =F33-D33 -> -472476.76 | H33: =F33/D33*100 -> 99.092862 | I33: =F33-E33 -> -18789926 | J33: =F33/E33 -> 0.73310429 | K33: =K34+K38+K41 -> 66488411 | L33: =L34+L38+L41 -> 71250799
A34: ОБЩЕГОСУДАРСТВЕННЫЕ ВОПРОСЫ | B34: 703 | C34: 0100 | D34: =D35+D36+D37 -> 43306979 | E34: =E35+E36+E37 -> 50109516 | F34: =F35+F36+F37 -> 33704696 | G34: =F34-D34 -> -9602282.2 | H34: =F34/D34*100 -> 77.827402 | I34: =F34-E34 -> -16404819 | J34: =F34/E34 -> 0.67262068 | K34: =K35+K36+K37 -> 29224538 | L34: =L35+L36+L37 -> 29246030
A35: Функционирование Правительства Российской Федерации, высших исполнительных органов государственной власти субъектов Российской Федерации, местных администраций | B35: 703 | C35: 0104 | D35: 17631425 | E35: 21304356 | F35: 20248301 | G35: =F35-D35 -> 2616875.9 | H35: =F35/D35*100 -> 114.84211 | I35: =F35-E35 -> -1056054.7 | J35: =F35/E35 -> 0.9504301 | K35: 20677438 | L35: 20687930
A36: Резервные фонды | B36: 703 | C36: 0111 | D36: 0 | E36: 3000000 | F36: 3000000 | G36: =F36-D36 -> 3000000 | H36: 0 | I36: =F36-E36 -> 0 | J36: =F36/E36 -> 1 | K36: 3000000 | L36: 3000000
A37: Другие общегосударственные вопросы | B37: 703 | C37: 0113 | D37: 25675554 | E37: 25805160 | F37: 10456395 | G37: =F37-D37 -> -15219158 | H37: =F37/D37*100 -> 40.725102 | I37: =F37-E37 -> -15348764 | J37: =F37/E37 -> 0.40520561 | K37: 5547100 | L37: 5558100
A38: ЖИЛИЩНО-КОММУНАЛЬНОЕ ХОЗЯЙСТВО | B38: 703 | C38: 0500 | D38: =D39+D40 -> 0 | E38: =E39+E40 -> 3077545.4 | F38: =F39+F40 -> 0 | G38: =F38-D38 -> 0 | H38: 0 | I38: =F38-E38 -> -3077545.4 | J38: =F38/E38 -> 0 | K38: =K39+K40 -> 0 | L38: =L39+L40 -> 0
A39: Жилищное хозяйство | B39: 703 | C39: 0501 | D39: 0 | E39: 2300409.4 | F39: 0 | G39: =F39-D39 -> 0 | H39: 0 | I39: =F39-E39 -> -2300409.4 | J39: =F39/E39 -> 0 | K39: 0 | L39: 0
A40: Коммунальное хозяйство | B40: 703 | C40: 0502 | D40: 0 | E40: 777136 | F40: 0 | G40: =F40-D40 -> 0 | H40: 0 | I40: =F40-E40 -> -777136 | J40: =F40/E40 -> 0 | K40: 0 | L40: 0
A41: ОБСЛУЖИВАНИЕ ГОСУДАРСТВЕННОГО И МУНИЦИПАЛЬНОГО ДОЛГА | B41: 703 | C41: 1300 | D41: =D42 -> 8777326 | E41: =E42 -> 17214693 | F41: =F42 -> 17907131 | G41: =F41-D41 -> 9129805.5 | H41: =F41/D41*100 -> 204.0158 | I41: =F41-E41 -> 692438.53 | J41: =F41/E41 -> 1.0402237 | K41: =K42 -> 37263874 | L41: =L42 -> 42004769
A42: Обслуживание государственного внутреннего и муниципального долга | B42: 703 | C42: 1301 | D42: 8777326 | E42: 17214693 | F42: 17907131 | G42: =F42-D42 -> 9129805.5 | H42: =F42/D42*100 -> 204.0158 | I42: =F42-E42 -> 692438.53 | J42: =F42/E42 -> 1.0402237 | K42: 37263874 | L42: 42004769
...

Sheet в тыс.руб.
A1: Прогноз расходов на 2020-2022 годы (по ведомствам, разделам, подразделам)
L3: тыс.руб.
A4: Наименование показателя | B4: Глава | C4: Раздел/ подраздел | D4: Отчет 2018 год | E4: Уточненная роспись на 01.10.19 год | F4: Проект 2020 год | G4: Отклонение | K4: Проект 2021 год | L4: Проект 2022 год
G5: к отчету 2018 года | I5: к плану 2019 года
G6: Сумма | H6: (%) | I6: Сумма | J6: (%)
A7: Администрация ЗАТО г. Североморск | B7: 701 | C7: 0000 | D7: ='40204810200000000013'!D6/1000 -> 294740.06 | E7: ='40204810200000000013'!E6/1000 -> 107905.07 | F7: ='40204810200000000013'!F6/1000 -> 112698.18 | G7: =F7-D7 -> -182041.89 | H7: =F7/D7*100 -> 38.236463 | I7: =F7-E7 -> 4793.109 | J7: =F7/E7 -> 1.0444197 | K7: ='40204810200000000013'!K6/1000 -> 103849 | L7: ='40204810200000000013'!L6/1000 -> 104100.8
A8: ОБЩЕГОСУДАРСТВЕННЫЕ ВОПРОСЫ | B8: 701 | C8: 0100 | D8: ='40204810200000000013'!D7/1000 -> 106434.06 | E8: ='40204810200000000013'!E7/1000 -> 53635.888 | F8: ='40204810200000000013'!F7/1000 -> 62095.416 | G8: =F8-D8 -> -44338.647 | H8: =F8/D8*100 -> 58.341676 | I8: =F8-E8 -> 8459.5275 | J8: =F8/E8 -> 1.1577214 | K8: ='40204810200000000013'!K7/1000 -> 53563.073 | L8: ='40204810200000000013'!L7/1000 -> 53782.008
A9: Функционирование высшего должностного лица субъекта Российской Федерации и муниципального образования | B9: 701 | C9: 0102 | D9: ='40204810200000000013'!D8/1000 -> 2594.5369 | E9: ='40204810200000000013'!E8/1000 -> 2971.082 | F9: ='40204810200000000013'!F8/1000 -> 3066.027 | G9: =F9-D9 -> 471.49018 | H9: =F9/D9*100 -> 118.17242 | I9: =F9-E9 -> 94.94505 | J9: =F9/E9 -> 1.0319564 | K9: ='40204810200000000013'!K8/1000 -> 3225.5661 | L9: ='40204810200000000013'!L8/1000 -> 3125.5661
A10: Функционирование Правительства Российской Федерации, высших исполнительных органов государственной власти субъектов Российской Федерации, местных администраций | B10: 701 | C10: 0104 | D10: ='40204810200000000013'!D9/1000 -> 45866.703 | E10: ='40204810200000000013'!E9/1000 -> 45020.085 | F10: ='40204810200000000013'!F9/1000 -> 44747.013 | G10: =F10-D10 -> -1119.6893 | H10: =F10/D10*100 -> 97.558819 | I10: =F10-E10 -> -273.07152 | J10: =F10/E10 -> 0.99393445 | K10: ='40204810200000000013'!K9/1000 -> 45721.181 | L10: ='40204810200000000013'!L9/1000 -> 45721.181
A11: Судебная система | B11: 701 | C11: 0105 | D11: ='40204810200000000013'!D10/1000 -> 42 | E11: ='40204810200000000013'!E10/1000 -> 12.08064 | F11: ='40204810200000000013'!F10/1000 -> 11.32 | G11: =F11-D11 -> -30.68 | H11: =F11/D11*100 -> 26.952381 | I11: =F11-E11 -> -0.76064 | J11: =F11/E11 -> 0.93703645 | K11: ='40204810200000000013'!K10/1000 -> 12.19764 | L11: ='40204810200000000013'!L10/1000 -> 111.38518
A12: Обеспечение проведения выборов и референдумов | B12: 701 | C12: 0107 | D12: ='40204810200000000013'!D11/1000 -> 1312.5 | E12: ='40204810200000000013'!E11/1000 -> 0 | F12: ='40204810200000000013'!F11/1000 -> 7960.3 | G12: =F12-D12 -> 6647.8 | H12: =F12/D12*100 -> 606.49905 | I12: =F12-E12 -> 7960.3 | J12: 0 | K12: ='40204810200000000013'!K11/1000 -> 0 | L12: ='40204810200000000013'!L11/1000 -> 0
A13: Другие общегосударственные вопросы | B13: 701 | C13: 0113 | D13: ='40204810200000000013'!D12/1000 -> 56618.324 | E13: ='40204810200000000013'!E12/1000 -> 5632.6408 | F13: ='40204810200000000013'!F12/1000 -> 6310.7554 | G13: =F13-D13 -> -50307.568 | H13: =F13/D13*100 -> 11.146136 | I13: =F13-E13 -> 678.11459 | J13: =F13/E13 -> 1.1203902 | K13: ='40204810200000000013'!K12/1000 -> 4604.1287 | L13: ='40204810200000000013'!L12/1000 -> 4823.8762
A14: НАЦИОНАЛЬНАЯ БЕЗОПАСНОСТЬ И ПРАВООХРАНИТЕЛЬНАЯ ДЕЯТЕЛЬНОСТЬ | B14: 701 | C14: 0300 | D14: ='40204810200000000013'!D13/1000 -> 11972.053 | E14: ='40204810200000000013'!E13/1000 -> 4457.475 | F14: ='40204810200000000013'!F13/1000 -> 3795.972 | G14: =F14-D14 -> -8176.0815 | H14: =F14/D14*100 -> 31.706942 | I14: =F14-E14 -> -661.503 | J14: =F14/E14 -> 0.85159692 | K14: ='40204810200000000013'!K13/1000 -> 2699.742 | L14: ='40204810200000000013'!L13/1000 -> 2684.379
A15: Органы юстиции | B15: 701 | C15: 0304 | D15: ='40204810200000000013'!D14/1000 -> 3982.6479 | E15: ='40204810200000000013'!E14/1000 -> 4367.475 | F15: ='40204810200000000013'!F14/1000 -> 3655.972 | G15: =F15-D15 -> -326.67592 | H15: =F15/D15*100 -> 91.797519 | I15: =F15-E15 -> -711.503 | J15: =F15/E15 -> 0.83709054 | K15: ='40204810200000000013'!K14/1000 -> 2559.742 | L15: ='40204810200000000013'!L14/1000 -> 2542.579
A16: Защита населения и территории от чрезвычайных ситуаций природного и техногенного характера, гражданская оборона | B16: 701 | C16: 0309 | D16: ='40204810200000000013'!D15/1000 -> 7202.9709 | E16: ='40204810200000000013'!E15/1000 -> 0 | F16: ='40204810200000000013'!F15/1000 -> 0 | G16: =F16-D16 -> -7202.9709 | H16: =F16/D16*100 -> 0 | I16: =F16-E16 -> 0 | J16: 0 | K16: ='40204810200000000013'!K15/1000 -> 0 | L16: ='40204810200000000013'!L15/1000 -> 0
A17: Другие вопросы в области национальной безопасности и правоохранительной деятельности | B17: 701 | C17: 0314 | D17: ='40204810200000000013'!D16/1000 -> 786.43467 | E17: ='40204810200000000013'!E16/1000 -> 90 | F17: ='40204810200000000013'!F16/1000 -> 140 | G17: =F17-D17 -> -646.43467 | H17: =F17/D17*100 -> 17.80186 | I17: =F17-E17 -> 50 | J17: =F17/E17 -> 1.5555556 | K17: ='40204810200000000013'!K16/1000 -> 140 | L17: ='40204810200000000013'!L16/1000 -> 141.8
A18: НАЦИОНАЛЬНАЯ ЭКОНОМИКА | B18: 701 | C18: 0400 | D18: ='40204810200000000013'!D17/1000 -> 24577.598 | E18: ='40204810200000000013'!E17/1000 -> 29581.219 | F18: ='40204810200000000013'!F17/1000 -> 26272.167 | G18: =F18-D18 -> 1694.5691 | H18: =F18/D18*100 -> 106.89477 | I18: =F18-E18 -> -3309.0513 | J18: =F18/E18 -> 0.88813675 | K18: ='40204810200000000013'!K17/1000 -> 26820.851 | L18: ='40204810200000000013'!L17/1000 -> 26772.574
A19: Связь и информатика | B19: 701 | C19: 0410 | D19: ='40204810200000000013'!D18/1000 -> 23921.957 | E19: ='40204810200000000013'!E18/1000 -> 25022.951 | F19: ='40204810200000000013'!F18/1000 -> 25822.461 | G19: =F19-D19 -> 1900.5041 | H19: =F19/D19*100 -> 107.9446 | I19: =F19-E19 -> 799.51026 | J19: =F19/E19 -> 1.0319511 | K19: ='40204810200000000013'!K18/1000 -> 26367.775 | L19: ='40204810200000000013'!L18/1000 -> 26367.775
A20: Другие вопросы в области национальной экономики | B20: 701 | C20: 0412 | D20: ='40204810200000000013'!D19/1000 -> 655.64104 | E20: ='40204810200000000013'!E19/1000 -> 4558.2675 | F20: ='40204810200000000013'!F19/1000 -> 449.706 | G20: =F20-D20 -> -205.93504 | H20: =F20/D20*100 -> 68.590276 | I20: =F20-E20 -> -4108.5615 | J20: =F20/E20 -> 0.098657219 | K20: ='40204810200000000013'!K19/1000 -> 453.076 | L20: ='40204810200000000013'!L19/1000 -> 404.799
A21: ОБРАЗОВАНИЕ | B21: 701 | C21: 0700 | D21: ='40204810200000000013'!D20/1000 -> 117601.38 | E21: ='40204810200000000013'!E20/1000 -> 130.85998 | F21: ='40204810200000000013'!F20/1000 -> 0 | G21: =F21-D21 -> -117601.38 | H21: =F21/D21*100 -> 0 | I21: =F21-E21 -> -130.85998 | J21: =F21/E21 -> 0 | K21: ='40204810200000000013'!K20/1000 -> 0 | L21: ='40204810200000000013'!L20/1000 -> 0
A22: Дошкольное образование | B22: 701 | C22: 0701 | D22: ='40204810200000000013'!D21/1000 -> 72739.053 | E22: ='40204810200000000013'!E21/1000 -> 0 | F22: ='40204810200000000013'!F21/1000 -> 0 | G22: =F22-D22 -> -72739.053 | H22: =F22/D22*100 -> 0 | I22: =F22-E22 -> 0 | J22: 0 | K22: ='40204810200000000013'!K21/1000 -> 0 | L22: ='40204810200000000013'!L21/1000 -> 0
A23: Общее образование | B23: 701 | C23: 0702 | D23: ='40204810200000000013'!D22/1000 -> 44291.5 | E23: ='40204810200000000013'!E22/1000 -> 0 | F23: ='40204810200000000013'!F22/1000 -> 0 | G23: =F23-D23 -> -44291.5 | H23: =F23/D23*100 -> 0 | I23: =F23-E23 -> 0 | J23: 0 | K23: ='40204810200000000013'!K22/1000 -> 0 | L23: ='40204810200000000013'!L22/1000 -> 0
A24: Молодежная политика и оздоровление детей | B24: 701 | C24: 0707 | D24: ='40204810200000000013'!D23/1000 -> 570.82518 | E24: ='40204810200000000013'!E23/1000 -> 130.85998 | F24: ='40204810200000000013'!F23/1000 -> 0 | G24: =F24-D24 -> -570.82518 | H24: =F24/D24*100 -> 0 | I24: =F24-E24 -> -130.85998 | J24: =F24/E24 -> 0 | K24: ='40204810200000000013'!K23/1000 -> 0 | L24: ='40204810200000000013'!L23/1000 -> 0
A25: СОЦИАЛЬНАЯ ПОЛИТИКА | B25: 701 | C25: 1000 | D25: ='40204810200000000013'!D24/1000 -> 15812.54 | E25: ='40204810200000000013'!E24/1000 -> 18646.44 | F25: ='40204810200000000013'!F24/1000 -> 20534.62 | G25: =F25-D25 -> 4722.0795 | H25: =F25/D25*100 -> 129.86288 | I25: =F25-E25 -> 1888.18 | J25: =F25/E25 -> 1.1012622 | K25: ='40204810200000000013'!K24/1000 -> 20765.336 | L25: ='40204810200000000013'!L24/1000 -> 20861.836
A26: Пенсионное обеспечение | B26: 701 | C26: 1001 | D26: ='40204810200000000013'!D25/1000 -> 5155.6245 | E26: ='40204810200000000013'!E25/1000 -> 5519.04 | F26: ='40204810200000000013'!F25/1000 -> 6748.72 | G26: =F26-D26 -> 1593.0955 | H26: =F26/D26*100 -> 130.90015 | I26: =F26-E26 -> 1229.68 | J26: =F26/E26 -> 1.2228069 | K26: ='40204810200000000013'!K25/1000 -> 6899.4358 | L26: ='40204810200000000013'!L25/1000 -> 6899.4358
A27: Социальное обеспечение населения | B27: 701 | C27: 1003 | D27: ='40204810200000000013'!D26/1000 -> 8589.1612 | E27: ='40204810200000000013'!E26/1000 -> 10970.7 | F27: ='40204810200000000013'!F26/1000 -> 11470.7 | G27: =F27-D27 -> 2881.5388 | H27: =F27/D27*100 -> 133.54855 | I27: =F27-E27 -> 500 | J27: =F27/E27 -> 1.0455759 | K27: ='40204810200000000013'!K26/1000 -> 11472.9 | L27: ='40204810200000000013'!L26/1000 -> 11475.6
A28: Охрана семьи и детства | B28: 701 | C28: 1004 | D28: ='40204810200000000013'!D27/1000 -> 2067.7548 | E28: ='40204810200000000013'!E27/1000 -> 2156.7 | F28: ='40204810200000000013'!F27/1000 -> 2315.2 | G28: =F28-D28 -> 247.44524 | H28: =F28/D28*100 -> 111.96686 | I28: =F28-E28 -> 158.5 | J28: =F28/E28 -> 1.0734919 | K28: ='40204810200000000013'!K27/1000 -> 2393 | L28: ='40204810200000000013'!L27/1000 -> 2486.8
A29: ФИЗИЧЕСКАЯ КУЛЬТУРА И СПОРТ | B29: 701 | C29: 1100 | D29: ='40204810200000000013'!D28/1000 -> 1821.2594 | E29: ='40204810200000000013'!E28/1000 -> 1453.1842 | F29: ='40204810200000000013'!F28/1000 -> 0 | G29: =F29-D29 -> -1821.2594 | H29: =F29/D29*100 -> 0 | I29: =F29-E29 -> -1453.1842 | J29: =F29/E29 -> 0 | K29: ='40204810200000000013'!K28/1000 -> 0 | L29: ='40204810200000000013'!L28/1000 -> 0
A30: Другие вопросы в области физической культуры и спорта | B30: 701 | C30: 1105 | D30: ='40204810200000000013'!D29/1000 -> 1821.2594 | E30: ='40204810200000000013'!E29/1000 -> 1453.1842 | F30: ='40204810200000000013'!F29/1000 -> 0 | G30: =F30-D30 -> -1821.2594 | H30: =F30/D30*100 -> 0 | I30: =F30-E30 -> -1453.1842 | J30: =F30/E30 -> 0 | K30: ='40204810200000000013'!K29/1000 -> 0 | L30: ='40204810200000000013'!L29/1000 -> 0
A31: СРЕДСТВА МАССОВОЙ ИНФОРМАЦИИ | B31: 701 | C31: 1200 | D31: ='40204810200000000013'!D30/1000 -> 16521.168 | E31: ='40204810200000000013'!E30/1000 -> 0 | F31: ='40204810200000000013'!F30/1000 -> 0 | G31: =F31-D31 -> -16521.168 | H31: =F31/D31*100 -> 0 | I31: =F31-E31 -> 0 | J31: 0 | K31: ='40204810200000000013'!K30/1000 -> 0 | L31: ='40204810200000000013'!L30/1000 -> 0
A32: Телевидение и радиовещание | B32: 701 | C32: 1201 | D32: ='40204810200000000013'!D31/1000 -> 5378.0697 | E32: ='40204810200000000013'!E31/1000 -> 0 | F32: ='40204810200000000013'!F31/1000 -> 0 | G32: =F32-D32 -> -5378.0697 | H32: =F32/D32*100 -> 0 | I32: =F32-E32 -> 0 | J32: 0 | K32: ='40204810200000000013'!K31/1000 -> 0 | L32: ='40204810200000000013'!L31/1000 -> 0
A33: Периодическая печать и издательства | B33: 701 | C33: 1202 | D33: ='40204810200000000013'!D32/1000 -> 11143.098 | E33: ='40204810200000000013'!E32/1000 -> 0 | F33: ='40204810200000000013'!F32/1000 -> 0 | G33: =F33-D33 -> -11143.098 | H33: =F33/D33*100 -> 0 | I33: =F33-E33 -> 0 | J33: 0 | K33: ='40204810200000000013'!K32/1000 -> 0 | L33: ='40204810200000000013'!L32/1000 -> 0
A34: Управление финансов администрации ЗАТО г. Североморск | B34: 703 | C34: 0000 | D34: ='40204810200000000013'!D33/1000 -> 52084.305 | E34: ='40204810200000000013'!E33/1000 -> 70401.754 | F34: ='40204810200000000013'!F33/1000 -> 51611.828 | G34: =F34-D34 -> -472.47676 | H34: =F34/D34*100 -> 99.092862 | I34: =F34-E34 -> -18789.926 | J34: =F34/E34 -> 0.73310429 | K34: ='40204810200000000013'!K33/1000 -> 66488.411 | L34: ='40204810200000000013'!L33/1000 -> 71250.799
A35: ОБЩЕГОСУДАРСТВЕННЫЕ ВОПРОСЫ | B35: 703 | C35: 0100 | D35: ='40204810200000000013'!D34/1000 -> 43306.979 | E35: ='40204810200000000013'!E34/1000 -> 50109.516 | F35: ='40204810200000000013'!F34/1000 -> 33704.696 | G35: =F35-D35 -> -9602.2822 | H35: =F35/D35*100 -> 77.827402 | I35: =F35-E35 -> -16404.819 | J35: =F35/E35 -> 0.67262068 | K35: ='40204810200000000013'!K34/1000 -> 29224.538 | L35: ='40204810200000000013'!L34/1000 -> 29246.03
A36: Функционирование Правительства Российской Федерации, высших исполнительных органов государственной власти субъектов Российской Федерации, местных администраций | B36: 703 | C36: 0104 | D36: ='40204810200000000013'!D35/1000 -> 17631.425 | E36: ='40204810200000000013'!E35/1000 -> 21304.356 | F36: ='40204810200000000013'!F35/1000 -> 20248.301 | G36: =F36-D36 -> 2616.8759 | H36: =F36/D36*100 -> 114.84211 | I36: =F36-E36 -> -1056.0547 | J36: =F36/E36 -> 0.9504301 | K36: ='40204810200000000013'!K35/1000 -> 20677.438 | L36: ='40204810200000000013'!L35/1000 -> 20687.93
A37: Резервные фонды | B37: 703 | C37: 0111 | D37: ='40204810200000000013'!D36/1000 -> 0 | E37: ='40204810200000000013'!E36/1000 -> 3000 | F37: ='40204810200000000013'!F36/1000 -> 3000 | G37: =F37-D37 -> 3000 | H37: 0 | I37: =F37-E37 -> 0 | J37: =F37/E37 -> 1 | K37: ='40204810200000000013'!K36/1000 -> 3000 | L37: ='40204810200000000013'!L36/1000 -> 3000
A38: Другие общегосударственные вопросы | B38: 703 | C38: 0113 | D38: ='40204810200000000013'!D37/1000 -> 25675.554 | E38: ='40204810200000000013'!E37/1000 -> 25805.16 | F38: ='40204810200000000013'!F37/1000 -> 10456.395 | G38: =F38-D38 -> -15219.158 | H38: =F38/D38*100 -> 40.725102 | I38: =F38-E38 -> -15348.764 | J38: =F38/E38 -> 0.40520561 | K38: ='40204810200000000013'!K37/1000 -> 5547.1 | L38: ='40204810200000000013'!L37/1000 -> 5558.1
A39: ЖИЛИЩНО-КОММУНАЛЬНОЕ ХОЗЯЙСТВО | B39: 703 | C39: 0500 | D39: ='40204810200000000013'!D38/1000 -> 0 | E39: ='40204810200000000013'!E38/1000 -> 3077.5454 | F39: ='40204810200000000013'!F38/1000 -> 0 | G39: =F39-D39 -> 0 | H39: 0 | I39: =F39-E39 -> -3077.5454 | J39: =F39/E39 -> 0 | K39: ='40204810200000000013'!K38/1000 -> 0 | L39: ='40204810200000000013'!L38/1000 -> 0
A40: Жилищное хозяйство | B40: 703 | C40: 0501 | D40: ='40204810200000000013'!D39/1000 -> 0 | E40: ='40204810200000000013'!E39/1000 -> 2300.4094 | F40: ='40204810200000000013'!F39/1000 -> 0 | G40: =F40-D40 -> 0 | H40: 0 | I40: =F40-E40 -> -2300.4094 | J40: =F40/E40 -> 0 | K40: ='40204810200000000013'!K39/1000 -> 0 | L40: ='40204810200000000013'!L39/1000 -> 0
A41: Коммунальное хозяйство | B41: 703 | C41: 0502 | D41: ='40204810200000000013'!D40/1000 -> 0 | E41: ='40204810200000000013'!E40/1000 -> 777.136 | F41: ='40204810200000000013'!F40/1000 -> 0 | G41: =F41-D41 -> 0 | H41: 0 | I41: =F41-E41 -> -777.136 | J41: =F41/E41 -> 0 | K41: ='40204810200000000013'!K40/1000 -> 0 | L41: ='40204810200000000013'!L40/1000 -> 0
...
